BEGIN:VCALENDAR
VERSION:2.0
PRODID:-//Innormadrid - ECPv6.8.1//NONSGML v1.0//EN
CALSCALE:GREGORIAN
METHOD:PUBLISH
X-ORIGINAL-URL:https://www.innormadrid.org
X-WR-CALDESC:Eventos para Innormadrid
REFRESH-INTERVAL;VALUE=DURATION:PT1H
X-Robots-Tag:noindex
X-PUBLISHED-TTL:PT1H
BEGIN:VTIMEZONE
TZID:Europe/Madrid
BEGIN:DAYLIGHT
TZOFFSETFROM:+0100
TZOFFSETTO:+0200
TZNAME:CEST
DTSTART:20240331T010000
END:DAYLIGHT
BEGIN:STANDARD
TZOFFSETFROM:+0200
TZOFFSETTO:+0100
TZNAME:CET
DTSTART:20241027T010000
END:STANDARD
END:VTIMEZONE
BEGIN:VEVENT
DTSTART;TZID=Europe/Madrid:20240603T100000
DTEND;TZID=Europe/Madrid:20240603T123000
DTSTAMP:20260423T221845
CREATED:20240423T204201Z
LAST-MODIFIED:20240423T204201Z
UID:450-1717408800-1717417800@www.innormadrid.org
SUMMARY:Networking
DESCRIPTION:
URL:https://www.innormadrid.org/evento/networking/
ATTACH;FMTTYPE=image/webp:https://www.innormadrid.org/wp-content/uploads/2024/04/networking.webp
END:VEVENT
END:VCALENDAR