BEGIN:VCALENDAR
VERSION:2.0
PRODID:-//Innormadrid - ECPv6.8.1//NONSGML v1.0//EN
CALSCALE:GREGORIAN
METHOD:PUBLISH
X-WR-CALNAME:Innormadrid
X-ORIGINAL-URL:https://www.innormadrid.org
X-WR-CALDESC:Eventos para Innormadrid
REFRESH-INTERVAL;VALUE=DURATION:PT1H
X-Robots-Tag:noindex
X-PUBLISHED-TTL:PT1H
BEGIN:VTIMEZONE
TZID:Europe/Madrid
BEGIN:DAYLIGHT
TZOFFSETFROM:+0100
TZOFFSETTO:+0200
TZNAME:CEST
DTSTART:20240331T010000
END:DAYLIGHT
BEGIN:STANDARD
TZOFFSETFROM:+0200
TZOFFSETTO:+0100
TZNAME:CET
DTSTART:20241027T010000
END:STANDARD
END:VTIMEZONE
BEGIN:VEVENT
DTSTART;TZID=Europe/Madrid:20241016T000000
DTEND;TZID=Europe/Madrid:20241016T235959
DTSTAMP:20260423T162157
CREATED:20240919T221437Z
LAST-MODIFIED:20240919T221439Z
UID:507-1729036800-1729123199@www.innormadrid.org
SUMMARY:Visita Qualicaps
DESCRIPTION:
URL:https://www.innormadrid.org/evento/visita-qualicaps/
END:VEVENT
END:VCALENDAR