BEGIN:VCALENDAR
VERSION:2.0
PRODID:-//Innormadrid - ECPv6.8.1//NONSGML v1.0//EN
CALSCALE:GREGORIAN
METHOD:PUBLISH
X-ORIGINAL-URL:https://www.innormadrid.org
X-WR-CALDESC:Eventos para Innormadrid
REFRESH-INTERVAL;VALUE=DURATION:PT1H
X-Robots-Tag:noindex
X-PUBLISHED-TTL:PT1H
BEGIN:VTIMEZONE
TZID:Europe/Madrid
BEGIN:DAYLIGHT
TZOFFSETFROM:+0100
TZOFFSETTO:+0200
TZNAME:CEST
DTSTART:20250330T010000
END:DAYLIGHT
BEGIN:STANDARD
TZOFFSETFROM:+0200
TZOFFSETTO:+0100
TZNAME:CET
DTSTART:20251026T010000
END:STANDARD
BEGIN:DAYLIGHT
TZOFFSETFROM:+0100
TZOFFSETTO:+0200
TZNAME:CEST
DTSTART:20260329T010000
END:DAYLIGHT
BEGIN:STANDARD
TZOFFSETFROM:+0200
TZOFFSETTO:+0100
TZNAME:CET
DTSTART:20261025T010000
END:STANDARD
END:VTIMEZONE
BEGIN:VEVENT
DTSTART;TZID=Europe/Madrid:20251216T100000
DTEND;TZID=Europe/Madrid:20251216T120000
DTSTAMP:20260423T132002
CREATED:20251127T111640Z
LAST-MODIFIED:20251127T112519Z
UID:1090-1765879200-1765886400@www.innormadrid.org
SUMMARY:Desayuno Networking Navideño
DESCRIPTION:El próximo 16 de diciembre\, tendrá lugar el último Networking del Hub de Transferencia Madrid Norte 2025\, un encuentro en el que reuniremos empresas que buscan innovar y colaborar con otras compañías y representantes de la UAM\, en un desayuno navideño con roscón en Digiespace (C. de Guzmán el bueno\, 16) \n\n\n\nEn este encuentro presentaremos el Curso Microcredencial «IA aplicada a la Ciberseguridad y Protección de datos»\, una formación presencial del Aula UAM-InNorMadrid dirigida a profesionales que quieran comprender los fundamentos de la IA\, su aplicación en la detección de amenazas y la normativa actual y futura que regula su uso. \n\n\n\nAccede a más información sobre la microcrdencial: AQUÍ \n\n\n\nDetalles del networking: \n\n\n\n\nFecha: 16 de diciembre\n\n\n\nHora: 10:00h\n\n\n\nLugar: Digiespace – C. de Guzmán el bueno\, 16\, 28108\, Alcobendas\, Madrid.\n\n\n\n\n \n\n\n\n\nINSCRIPCIÓN Networking
URL:https://www.innormadrid.org/evento/desayuno-networking-navideno/
LOCATION:Digiespace\, Calle de Guzmán el bueno\, 16\, Madrid\, Alcobendas\, 28108\, Spain
ATTACH;FMTTYPE=image/png:https://www.innormadrid.org/wp-content/uploads/2025/11/Networking-16-diciembre-ultimo-1-1.png
END:VEVENT
BEGIN:VEVENT
DTSTART;TZID=Europe/Madrid:20260122T100000
DTEND;TZID=Europe/Madrid:20260122T120000
DTSTAMP:20260423T132002
CREATED:20260115T091140Z
LAST-MODIFIED:20260115T091236Z
UID:1106-1769076000-1769083200@www.innormadrid.org
SUMMARY:Visita al SIDI UAM
DESCRIPTION:El próximo 22 de enero\, visitaremos el Servicio Interdepartamental de Investigación (SIDI) de la Universidad Autónoma de Madrid.  \n\n\n\nEl objetivo de la visita es conocer sus infraestructuras cinetífico-técnicas\, sus servicios de apoyo a la investigación y los recursos que pone a disposición de los organismos públicos y privados.  \n\n\n\n\nFecha: 22 de enero de 2026 a las 10:00h \n\n\n\nLugar: Campus de Cantoblanco\, Facultad de Ciencias\, C/Francisco Tomás y Valiente\, 7\, módulo 13. \n\n\n\n\n\nInscripción
URL:https://www.innormadrid.org/evento/visita-al-sidi-uam/
LOCATION:SIDI UAM\, C. Francisco Tomás y Valiente\, 7\, módulo 13\, Madrid\, Madrid\, 28049
END:VEVENT
BEGIN:VEVENT
DTSTART;TZID=Europe/Madrid:20260205T100000
DTEND;TZID=Europe/Madrid:20260205T110000
DTSTAMP:20260423T132002
CREATED:20260115T091926Z
LAST-MODIFIED:20260115T091928Z
UID:1112-1770285600-1770289200@www.innormadrid.org
SUMMARY:Visita al parque tecnológico Qube
DESCRIPTION:El próximo 5 de febrero\, tendrá lugar la visita al Parque Tecnológico Qube\, un centro tecnológico dedicado a proporcionar espacios y servicios de apoyo a la innovación en el ámbito de la biotecnología y ciencias de la salud\, ubicado en el municipio de Tres Cantos.  \n\n\n\n\nFecha: 5 de febrero de 2026 a las 10:00h \n\n\n\nLugar: C. Santiago Grisolía\, 2\, 28760\, Tres Cantos\, Madrid. \n\n\n\n\n\nInscripción
URL:https://www.innormadrid.org/evento/visita-al-parque-tecnologico-qube/
END:VEVENT
BEGIN:VEVENT
DTSTART;TZID=Europe/Madrid:20260205T100000
DTEND;TZID=Europe/Madrid:20260205T120000
DTSTAMP:20260423T132002
CREATED:20260115T093832Z
LAST-MODIFIED:20260115T093832Z
UID:1115-1770285600-1770292800@www.innormadrid.org
SUMMARY:Networking Fundación Qube
DESCRIPTION:El próximo 5 de febrero celebraremos el primer networking del Hub de Transferencia Madrid Norte 2026\, centrado en los servicios de apoyo a empresas tecnológicas y bio-farmacéuticas.  \n\n\n\nEste evento está diseñado para empresas\, entidades de apoyo a la innovación e investigadores de la UAM\, con el objetivo de fomentar la colaboración y la transferencia de conocimiento.  \n\n\n\nSerá la oportunidad para ampliar la red de contactos y detectar oportunidades de colaboración con otras entidades e investigadores.  \n\n\n\nDetalles del evento:  \n\n\n\n\nFecha: 5 de febrero de 2026\n\n\n\nHora: 10:00-12:00h \n\n\n\nLugar: Parque Tecnológico Qube – C. Santiago Grisolía\, 2\, 28760\, Tres Cantos\, Madrid.
URL:https://www.innormadrid.org/evento/networking-fundacion-qube/
END:VEVENT
BEGIN:VEVENT
DTSTART;TZID=Europe/Madrid:20260324T100000
DTEND;TZID=Europe/Madrid:20260324T120000
DTSTAMP:20260423T132002
CREATED:20260304T092534Z
LAST-MODIFIED:20260311T120908Z
UID:1156-1774346400-1774353600@www.innormadrid.org
SUMMARY:Taller "Financiación Inteligente 360º: Ayudas a la Innovación"
DESCRIPTION:El próximo 24 de marzo de 2026\, celebraremos el primer taller de capacitación del Hub de Transferencia Madrid Norte 2026 centrado en «Financiación Inteligente 360º: Ayudas a la innovación» \n\n\n\nEste taller está dirigido a empresas que quieren impulsar sus proyectos de I+D+i y acceder a financiación pública y privada. Es una gran oportunidad para conocer próximas convocatorias de ayudas y subvenciones en la que podrás conocer: \n\n\n\n\nLíneas de ayudas a proyectos de I+D\, Innovación y Transferencia Tecnológica\n\n\n\nServicios de valor añadido que ofrece el CDTI Innovación a las empresas\n\n\n\nConexión con capital privado de proyectos I+D+i a través de AIEs\n\n\n\nPolíticas y líneas de ayudas para apoyar los proyectos de I+D+i empresariales\n\n\n\n\nTenemos el placer de contar con la participación de expertos de CDTI Innovación\, Comunidad de Madrid\, Nowus Innovación\, Algarikon Mar Menor y otros profesionales del ecosistema innovador. \n\n\n\nDetalles del taller: \n\n\n\n\nLugar: Cink Coworking – C. de Henri Dunant 17\, 28036\, Chamartín\, Madrid\n\n\n\nFecha: 24 de marzo de 2026\n\n\n\nHora: 10:00-12:000h\n\n\n\n\n\nInscripción
URL:https://www.innormadrid.org/evento/taller-financiacion-inteligente-360o-ayudas-a-la-innovacion/
ATTACH;FMTTYPE=image/png:https://www.innormadrid.org/wp-content/uploads/2026/03/taller-24-marzo-.png
END:VEVENT
BEGIN:VEVENT
DTSTART;TZID=Europe/Madrid:20260519T100000
DTEND;TZID=Europe/Madrid:20260519T120000
DTSTAMP:20260423T132002
CREATED:20260423T092654Z
LAST-MODIFIED:20260423T092656Z
UID:1178-1779184800-1779192000@www.innormadrid.org
SUMMARY:Taller "La importancia de las patentes"
DESCRIPTION:El próximo 19 de mayo celebramos el Taller de capacitación centrado en «La importancia de las patentes«. \n\n\n\nEl objetivo es dar visibilidad a las empresas más innovadoras de la Comunidad de Madrid\, identificadas a partir de su actividad en solicitudes y concesiones de patentes como indicador de su capacidad tecnológica\, inversión en I+D y generación de conocimiento. \n\n\n\nDetalles del evento:  \n\n\n\n\nFecha: 19 de mayo de 2026 \n\n\n\nHora: 10:00-12:00h \n\n\n\nLugar: Cl. de Suero de Quiñones\, 34\, 36\, Chamartín\, 28002\, Madrid. \n\n\n\n\n\nIncripción
URL:https://www.innormadrid.org/evento/taller-la-importancia-de-las-patentes/
END:VEVENT
END:VCALENDAR