BEGIN:VCALENDAR
VERSION:2.0
PRODID:-//Innormadrid - ECPv6.8.1//NONSGML v1.0//EN
CALSCALE:GREGORIAN
METHOD:PUBLISH
X-ORIGINAL-URL:https://www.innormadrid.org
X-WR-CALDESC:Eventos para Innormadrid
REFRESH-INTERVAL;VALUE=DURATION:PT1H
X-Robots-Tag:noindex
X-PUBLISHED-TTL:PT1H
BEGIN:VTIMEZONE
TZID:Europe/Madrid
BEGIN:DAYLIGHT
TZOFFSETFROM:+0100
TZOFFSETTO:+0200
TZNAME:CEST
DTSTART:20240331T010000
END:DAYLIGHT
BEGIN:STANDARD
TZOFFSETFROM:+0200
TZOFFSETTO:+0100
TZNAME:CET
DTSTART:20241027T010000
END:STANDARD
END:VTIMEZONE
BEGIN:VEVENT
DTSTART;TZID=Europe/Madrid:20241107T100000
DTEND;TZID=Europe/Madrid:20241107T120000
DTSTAMP:20260423T131339
CREATED:20240919T221626Z
LAST-MODIFIED:20241015T110509Z
UID:509-1730973600-1730980800@www.innormadrid.org
SUMMARY:Networking empresarial
DESCRIPTION:Desayuno networking dirigido a investigadores de la UAM\, empresas\, inversores y más.  \n\n\n\n				\n					\n						\n							\n							\n								InnormadridServiciosActualidadContacto
URL:https://www.innormadrid.org/evento/encuentro-networking/
LOCATION:Oficinas Decathlon San Sebastián de los Reyes\, C. Salvador de Madariaga S/N\, Madrid\, San Sebastián de los Reyes\, Spain
END:VEVENT
END:VCALENDAR